BEGIN:VCALENDAR
VERSION:2.0
PRODID:-//Stowupland Local History Group - ECPv6.15.20//NONSGML v1.0//EN
CALSCALE:GREGORIAN
METHOD:PUBLISH
X-ORIGINAL-URL:https://www.stowuplandlocalhistorygroup.org
X-WR-CALDESC:Events for Stowupland Local History Group
REFRESH-INTERVAL;VALUE=DURATION:PT1H
X-Robots-Tag:noindex
X-PUBLISHED-TTL:PT1H
BEGIN:VTIMEZONE
TZID:Europe/London
BEGIN:DAYLIGHT
TZOFFSETFROM:+0000
TZOFFSETTO:+0100
TZNAME:BST
DTSTART:20200329T010000
END:DAYLIGHT
BEGIN:STANDARD
TZOFFSETFROM:+0100
TZOFFSETTO:+0000
TZNAME:GMT
DTSTART:20201025T010000
END:STANDARD
BEGIN:DAYLIGHT
TZOFFSETFROM:+0000
TZOFFSETTO:+0100
TZNAME:BST
DTSTART:20210328T010000
END:DAYLIGHT
BEGIN:STANDARD
TZOFFSETFROM:+0100
TZOFFSETTO:+0000
TZNAME:GMT
DTSTART:20211031T010000
END:STANDARD
BEGIN:DAYLIGHT
TZOFFSETFROM:+0000
TZOFFSETTO:+0100
TZNAME:BST
DTSTART:20220327T010000
END:DAYLIGHT
BEGIN:STANDARD
TZOFFSETFROM:+0100
TZOFFSETTO:+0000
TZNAME:GMT
DTSTART:20221030T010000
END:STANDARD
END:VTIMEZONE
BEGIN:VEVENT
DTSTART;TZID=Europe/London:20210505T193000
DTEND;TZID=Europe/London:20210505T193000
DTSTAMP:20260423T093809
CREATED:20210421T160607Z
LAST-MODIFIED:20210424T094245Z
UID:1095-1620243000-1620243000@www.stowuplandlocalhistorygroup.org
SUMMARY:Zoom Talk -What the Committee did during Lockdown
DESCRIPTION:Private talk\, for details contact SLHG membership secretary
URL:https://www.stowuplandlocalhistorygroup.org/event/zoom-talk-what-the-committee-did-during-lockdown/
CATEGORIES:Zoom
END:VEVENT
BEGIN:VEVENT
DTSTART;TZID=Europe/London:20210428T193000
DTEND;TZID=Europe/London:20210428T203000
DTSTAMP:20260423T093809
CREATED:20210421T155917Z
LAST-MODIFIED:20210424T094255Z
UID:1093-1619638200-1619641800@www.stowuplandlocalhistorygroup.org
SUMMARY:LHG Committee meeting on Zoom
DESCRIPTION:Private meeting for Trustees only
URL:https://www.stowuplandlocalhistorygroup.org/event/lhg-committee-meeting-on-zoom/
CATEGORIES:Zoom
END:VEVENT
END:VCALENDAR